BEGIN:VCALENDAR
VERSION:2.0
PRODID:-//St Matthew Lutheran Church - ECPv6.15.18//NONSGML v1.0//EN
CALSCALE:GREGORIAN
METHOD:PUBLISH
X-WR-CALNAME:St Matthew Lutheran Church
X-ORIGINAL-URL:https://stmatthewlutherancalgary.com
X-WR-CALDESC:Events for St Matthew Lutheran Church
REFRESH-INTERVAL;VALUE=DURATION:PT1H
X-Robots-Tag:noindex
X-PUBLISHED-TTL:PT1H
BEGIN:VTIMEZONE
TZID:America/Edmonton
BEGIN:DAYLIGHT
TZOFFSETFROM:-0700
TZOFFSETTO:-0600
TZNAME:MDT
DTSTART:20290311T090000
END:DAYLIGHT
BEGIN:STANDARD
TZOFFSETFROM:-0600
TZOFFSETTO:-0700
TZNAME:MST
DTSTART:20291104T080000
END:STANDARD
BEGIN:DAYLIGHT
TZOFFSETFROM:-0700
TZOFFSETTO:-0600
TZNAME:MDT
DTSTART:20300310T090000
END:DAYLIGHT
BEGIN:STANDARD
TZOFFSETFROM:-0600
TZOFFSETTO:-0700
TZNAME:MST
DTSTART:20301103T080000
END:STANDARD
BEGIN:DAYLIGHT
TZOFFSETFROM:-0700
TZOFFSETTO:-0600
TZNAME:MDT
DTSTART:20310309T090000
END:DAYLIGHT
BEGIN:STANDARD
TZOFFSETFROM:-0600
TZOFFSETTO:-0700
TZNAME:MST
DTSTART:20311102T080000
END:STANDARD
END:VTIMEZONE
BEGIN:VEVENT
DTSTART;TZID=America/Edmonton:20300512T110000
DTEND;TZID=America/Edmonton:20300512T120000
DTSTAMP:20260420T005138
CREATED:20260203T171936Z
LAST-MODIFIED:20260203T202052Z
UID:10000848-1904814000-1904817600@stmatthewlutherancalgary.com
SUMMARY:English Service
DESCRIPTION:
URL:https://stmatthewlutherancalgary.com/event/english-service-14/2030-05-12/
END:VEVENT
BEGIN:VEVENT
DTSTART;TZID=America/Edmonton:20300519T093000
DTEND;TZID=America/Edmonton:20300519T103000
DTSTAMP:20260420T005138
CREATED:20260203T171836Z
LAST-MODIFIED:20260203T202139Z
UID:10000591-1905413400-1905417000@stmatthewlutherancalgary.com
SUMMARY:German Service
DESCRIPTION:
URL:https://stmatthewlutherancalgary.com/event/german-service-15/2030-05-19/
END:VEVENT
BEGIN:VEVENT
DTSTART;TZID=America/Edmonton:20300519T110000
DTEND;TZID=America/Edmonton:20300519T120000
DTSTAMP:20260420T005138
CREATED:20260203T171936Z
LAST-MODIFIED:20260203T202052Z
UID:10000849-1905418800-1905422400@stmatthewlutherancalgary.com
SUMMARY:English Service
DESCRIPTION:
URL:https://stmatthewlutherancalgary.com/event/english-service-14/2030-05-19/
END:VEVENT
BEGIN:VEVENT
DTSTART;TZID=America/Edmonton:20300526T093000
DTEND;TZID=America/Edmonton:20300526T103000
DTSTAMP:20260420T005138
CREATED:20260203T171836Z
LAST-MODIFIED:20260203T202139Z
UID:10000592-1906018200-1906021800@stmatthewlutherancalgary.com
SUMMARY:German Service
DESCRIPTION:
URL:https://stmatthewlutherancalgary.com/event/german-service-15/2030-05-26/
END:VEVENT
BEGIN:VEVENT
DTSTART;TZID=America/Edmonton:20300526T110000
DTEND;TZID=America/Edmonton:20300526T120000
DTSTAMP:20260420T005138
CREATED:20260203T171936Z
LAST-MODIFIED:20260203T202052Z
UID:10000850-1906023600-1906027200@stmatthewlutherancalgary.com
SUMMARY:English Service
DESCRIPTION:
URL:https://stmatthewlutherancalgary.com/event/english-service-14/2030-05-26/
END:VEVENT
BEGIN:VEVENT
DTSTART;TZID=America/Edmonton:20300602T093000
DTEND;TZID=America/Edmonton:20300602T103000
DTSTAMP:20260420T005138
CREATED:20260203T171836Z
LAST-MODIFIED:20260203T202139Z
UID:10000593-1906623000-1906626600@stmatthewlutherancalgary.com
SUMMARY:German Service
DESCRIPTION:
URL:https://stmatthewlutherancalgary.com/event/german-service-15/2030-06-02/
END:VEVENT
BEGIN:VEVENT
DTSTART;TZID=America/Edmonton:20300602T110000
DTEND;TZID=America/Edmonton:20300602T120000
DTSTAMP:20260420T005138
CREATED:20260203T171936Z
LAST-MODIFIED:20260203T202052Z
UID:10000851-1906628400-1906632000@stmatthewlutherancalgary.com
SUMMARY:English Service
DESCRIPTION:
URL:https://stmatthewlutherancalgary.com/event/english-service-14/2030-06-02/
END:VEVENT
BEGIN:VEVENT
DTSTART;TZID=America/Edmonton:20300609T093000
DTEND;TZID=America/Edmonton:20300609T103000
DTSTAMP:20260420T005138
CREATED:20260203T171836Z
LAST-MODIFIED:20260203T202139Z
UID:10000594-1907227800-1907231400@stmatthewlutherancalgary.com
SUMMARY:German Service
DESCRIPTION:
URL:https://stmatthewlutherancalgary.com/event/german-service-15/2030-06-09/
END:VEVENT
BEGIN:VEVENT
DTSTART;TZID=America/Edmonton:20300609T110000
DTEND;TZID=America/Edmonton:20300609T120000
DTSTAMP:20260420T005138
CREATED:20260203T171936Z
LAST-MODIFIED:20260203T202052Z
UID:10000852-1907233200-1907236800@stmatthewlutherancalgary.com
SUMMARY:English Service
DESCRIPTION:
URL:https://stmatthewlutherancalgary.com/event/english-service-14/2030-06-09/
END:VEVENT
BEGIN:VEVENT
DTSTART;TZID=America/Edmonton:20300616T093000
DTEND;TZID=America/Edmonton:20300616T103000
DTSTAMP:20260420T005138
CREATED:20260203T171836Z
LAST-MODIFIED:20260203T202139Z
UID:10000595-1907832600-1907836200@stmatthewlutherancalgary.com
SUMMARY:German Service
DESCRIPTION:
URL:https://stmatthewlutherancalgary.com/event/german-service-15/2030-06-16/
END:VEVENT
BEGIN:VEVENT
DTSTART;TZID=America/Edmonton:20300616T110000
DTEND;TZID=America/Edmonton:20300616T120000
DTSTAMP:20260420T005138
CREATED:20260203T171936Z
LAST-MODIFIED:20260203T202052Z
UID:10000853-1907838000-1907841600@stmatthewlutherancalgary.com
SUMMARY:English Service
DESCRIPTION:
URL:https://stmatthewlutherancalgary.com/event/english-service-14/2030-06-16/
END:VEVENT
BEGIN:VEVENT
DTSTART;TZID=America/Edmonton:20300623T093000
DTEND;TZID=America/Edmonton:20300623T103000
DTSTAMP:20260420T005138
CREATED:20260203T171836Z
LAST-MODIFIED:20260203T202139Z
UID:10000596-1908437400-1908441000@stmatthewlutherancalgary.com
SUMMARY:German Service
DESCRIPTION:
URL:https://stmatthewlutherancalgary.com/event/german-service-15/2030-06-23/
END:VEVENT
BEGIN:VEVENT
DTSTART;TZID=America/Edmonton:20300623T110000
DTEND;TZID=America/Edmonton:20300623T120000
DTSTAMP:20260420T005138
CREATED:20260203T171936Z
LAST-MODIFIED:20260203T202052Z
UID:10000854-1908442800-1908446400@stmatthewlutherancalgary.com
SUMMARY:English Service
DESCRIPTION:
URL:https://stmatthewlutherancalgary.com/event/english-service-14/2030-06-23/
END:VEVENT
BEGIN:VEVENT
DTSTART;TZID=America/Edmonton:20300630T093000
DTEND;TZID=America/Edmonton:20300630T103000
DTSTAMP:20260420T005138
CREATED:20260203T171836Z
LAST-MODIFIED:20260203T202139Z
UID:10000597-1909042200-1909045800@stmatthewlutherancalgary.com
SUMMARY:German Service
DESCRIPTION:
URL:https://stmatthewlutherancalgary.com/event/german-service-15/2030-06-30/
END:VEVENT
BEGIN:VEVENT
DTSTART;TZID=America/Edmonton:20300630T110000
DTEND;TZID=America/Edmonton:20300630T120000
DTSTAMP:20260420T005138
CREATED:20260203T171936Z
LAST-MODIFIED:20260203T202052Z
UID:10000855-1909047600-1909051200@stmatthewlutherancalgary.com
SUMMARY:English Service
DESCRIPTION:
URL:https://stmatthewlutherancalgary.com/event/english-service-14/2030-06-30/
END:VEVENT
BEGIN:VEVENT
DTSTART;TZID=America/Edmonton:20300707T093000
DTEND;TZID=America/Edmonton:20300707T103000
DTSTAMP:20260420T005138
CREATED:20260203T171836Z
LAST-MODIFIED:20260203T202139Z
UID:10000598-1909647000-1909650600@stmatthewlutherancalgary.com
SUMMARY:German Service
DESCRIPTION:
URL:https://stmatthewlutherancalgary.com/event/german-service-15/2030-07-07/
END:VEVENT
BEGIN:VEVENT
DTSTART;TZID=America/Edmonton:20300707T110000
DTEND;TZID=America/Edmonton:20300707T120000
DTSTAMP:20260420T005138
CREATED:20260203T171936Z
LAST-MODIFIED:20260203T202052Z
UID:10000856-1909652400-1909656000@stmatthewlutherancalgary.com
SUMMARY:English Service
DESCRIPTION:
URL:https://stmatthewlutherancalgary.com/event/english-service-14/2030-07-07/
END:VEVENT
BEGIN:VEVENT
DTSTART;TZID=America/Edmonton:20300714T093000
DTEND;TZID=America/Edmonton:20300714T103000
DTSTAMP:20260420T005138
CREATED:20260203T171836Z
LAST-MODIFIED:20260203T202139Z
UID:10000599-1910251800-1910255400@stmatthewlutherancalgary.com
SUMMARY:German Service
DESCRIPTION:
URL:https://stmatthewlutherancalgary.com/event/german-service-15/2030-07-14/
END:VEVENT
BEGIN:VEVENT
DTSTART;TZID=America/Edmonton:20300714T110000
DTEND;TZID=America/Edmonton:20300714T120000
DTSTAMP:20260420T005138
CREATED:20260203T171936Z
LAST-MODIFIED:20260203T202052Z
UID:10000857-1910257200-1910260800@stmatthewlutherancalgary.com
SUMMARY:English Service
DESCRIPTION:
URL:https://stmatthewlutherancalgary.com/event/english-service-14/2030-07-14/
END:VEVENT
BEGIN:VEVENT
DTSTART;TZID=America/Edmonton:20300721T093000
DTEND;TZID=America/Edmonton:20300721T103000
DTSTAMP:20260420T005138
CREATED:20260203T171836Z
LAST-MODIFIED:20260203T202139Z
UID:10000600-1910856600-1910860200@stmatthewlutherancalgary.com
SUMMARY:German Service
DESCRIPTION:
URL:https://stmatthewlutherancalgary.com/event/german-service-15/2030-07-21/
END:VEVENT
BEGIN:VEVENT
DTSTART;TZID=America/Edmonton:20300721T110000
DTEND;TZID=America/Edmonton:20300721T120000
DTSTAMP:20260420T005138
CREATED:20260203T171936Z
LAST-MODIFIED:20260203T202052Z
UID:10000858-1910862000-1910865600@stmatthewlutherancalgary.com
SUMMARY:English Service
DESCRIPTION:
URL:https://stmatthewlutherancalgary.com/event/english-service-14/2030-07-21/
END:VEVENT
BEGIN:VEVENT
DTSTART;TZID=America/Edmonton:20300728T093000
DTEND;TZID=America/Edmonton:20300728T103000
DTSTAMP:20260420T005138
CREATED:20260203T171836Z
LAST-MODIFIED:20260203T202139Z
UID:10000601-1911461400-1911465000@stmatthewlutherancalgary.com
SUMMARY:German Service
DESCRIPTION:
URL:https://stmatthewlutherancalgary.com/event/german-service-15/2030-07-28/
END:VEVENT
BEGIN:VEVENT
DTSTART;TZID=America/Edmonton:20300728T110000
DTEND;TZID=America/Edmonton:20300728T120000
DTSTAMP:20260420T005138
CREATED:20260203T171936Z
LAST-MODIFIED:20260203T202052Z
UID:10000859-1911466800-1911470400@stmatthewlutherancalgary.com
SUMMARY:English Service
DESCRIPTION:
URL:https://stmatthewlutherancalgary.com/event/english-service-14/2030-07-28/
END:VEVENT
BEGIN:VEVENT
DTSTART;TZID=America/Edmonton:20300804T093000
DTEND;TZID=America/Edmonton:20300804T103000
DTSTAMP:20260420T005138
CREATED:20260203T171836Z
LAST-MODIFIED:20260203T202139Z
UID:10000602-1912066200-1912069800@stmatthewlutherancalgary.com
SUMMARY:German Service
DESCRIPTION:
URL:https://stmatthewlutherancalgary.com/event/german-service-15/2030-08-04/
END:VEVENT
BEGIN:VEVENT
DTSTART;TZID=America/Edmonton:20300804T110000
DTEND;TZID=America/Edmonton:20300804T120000
DTSTAMP:20260420T005138
CREATED:20260203T171936Z
LAST-MODIFIED:20260203T202052Z
UID:10000860-1912071600-1912075200@stmatthewlutherancalgary.com
SUMMARY:English Service
DESCRIPTION:
URL:https://stmatthewlutherancalgary.com/event/english-service-14/2030-08-04/
END:VEVENT
BEGIN:VEVENT
DTSTART;TZID=America/Edmonton:20300811T093000
DTEND;TZID=America/Edmonton:20300811T103000
DTSTAMP:20260420T005138
CREATED:20260203T171836Z
LAST-MODIFIED:20260203T202139Z
UID:10000603-1912671000-1912674600@stmatthewlutherancalgary.com
SUMMARY:German Service
DESCRIPTION:
URL:https://stmatthewlutherancalgary.com/event/german-service-15/2030-08-11/
END:VEVENT
BEGIN:VEVENT
DTSTART;TZID=America/Edmonton:20300811T110000
DTEND;TZID=America/Edmonton:20300811T120000
DTSTAMP:20260420T005138
CREATED:20260203T171936Z
LAST-MODIFIED:20260203T202052Z
UID:10000861-1912676400-1912680000@stmatthewlutherancalgary.com
SUMMARY:English Service
DESCRIPTION:
URL:https://stmatthewlutherancalgary.com/event/english-service-14/2030-08-11/
END:VEVENT
BEGIN:VEVENT
DTSTART;TZID=America/Edmonton:20300818T093000
DTEND;TZID=America/Edmonton:20300818T103000
DTSTAMP:20260420T005138
CREATED:20260203T171836Z
LAST-MODIFIED:20260203T202139Z
UID:10000604-1913275800-1913279400@stmatthewlutherancalgary.com
SUMMARY:German Service
DESCRIPTION:
URL:https://stmatthewlutherancalgary.com/event/german-service-15/2030-08-18/
END:VEVENT
BEGIN:VEVENT
DTSTART;TZID=America/Edmonton:20300818T110000
DTEND;TZID=America/Edmonton:20300818T120000
DTSTAMP:20260420T005138
CREATED:20260203T171936Z
LAST-MODIFIED:20260203T202052Z
UID:10000862-1913281200-1913284800@stmatthewlutherancalgary.com
SUMMARY:English Service
DESCRIPTION:
URL:https://stmatthewlutherancalgary.com/event/english-service-14/2030-08-18/
END:VEVENT
BEGIN:VEVENT
DTSTART;TZID=America/Edmonton:20300825T093000
DTEND;TZID=America/Edmonton:20300825T103000
DTSTAMP:20260420T005138
CREATED:20260203T171836Z
LAST-MODIFIED:20260203T202139Z
UID:10000605-1913880600-1913884200@stmatthewlutherancalgary.com
SUMMARY:German Service
DESCRIPTION:
URL:https://stmatthewlutherancalgary.com/event/german-service-15/2030-08-25/
END:VEVENT
END:VCALENDAR