BEGIN:VCALENDAR
VERSION:2.0
PRODID:-//St Matthew Lutheran Church - ECPv6.15.18//NONSGML v1.0//EN
CALSCALE:GREGORIAN
METHOD:PUBLISH
X-WR-CALNAME:St Matthew Lutheran Church
X-ORIGINAL-URL:https://stmatthewlutherancalgary.com
X-WR-CALDESC:Events for St Matthew Lutheran Church
REFRESH-INTERVAL;VALUE=DURATION:PT1H
X-Robots-Tag:noindex
X-PUBLISHED-TTL:PT1H
BEGIN:VTIMEZONE
TZID:America/Edmonton
BEGIN:DAYLIGHT
TZOFFSETFROM:-0700
TZOFFSETTO:-0600
TZNAME:MDT
DTSTART:20290311T090000
END:DAYLIGHT
BEGIN:STANDARD
TZOFFSETFROM:-0600
TZOFFSETTO:-0700
TZNAME:MST
DTSTART:20291104T080000
END:STANDARD
BEGIN:DAYLIGHT
TZOFFSETFROM:-0700
TZOFFSETTO:-0600
TZNAME:MDT
DTSTART:20300310T090000
END:DAYLIGHT
BEGIN:STANDARD
TZOFFSETFROM:-0600
TZOFFSETTO:-0700
TZNAME:MST
DTSTART:20301103T080000
END:STANDARD
BEGIN:DAYLIGHT
TZOFFSETFROM:-0700
TZOFFSETTO:-0600
TZNAME:MDT
DTSTART:20310309T090000
END:DAYLIGHT
BEGIN:STANDARD
TZOFFSETFROM:-0600
TZOFFSETTO:-0700
TZNAME:MST
DTSTART:20311102T080000
END:STANDARD
BEGIN:DAYLIGHT
TZOFFSETFROM:-0700
TZOFFSETTO:-0600
TZNAME:MDT
DTSTART:20320314T090000
END:DAYLIGHT
BEGIN:STANDARD
TZOFFSETFROM:-0600
TZOFFSETTO:-0700
TZNAME:MST
DTSTART:20321107T080000
END:STANDARD
END:VTIMEZONE
BEGIN:VEVENT
DTSTART;TZID=America/Edmonton:20301110T093000
DTEND;TZID=America/Edmonton:20301110T103000
DTSTAMP:20260419T230534
CREATED:20260203T171836Z
LAST-MODIFIED:20260203T202139Z
UID:10000616-1920533400-1920537000@stmatthewlutherancalgary.com
SUMMARY:German Service
DESCRIPTION:
URL:https://stmatthewlutherancalgary.com/event/german-service-15/2030-11-10/
END:VEVENT
BEGIN:VEVENT
DTSTART;TZID=America/Edmonton:20301110T110000
DTEND;TZID=America/Edmonton:20301110T120000
DTSTAMP:20260419T230534
CREATED:20260203T171936Z
LAST-MODIFIED:20260203T202052Z
UID:10000874-1920538800-1920542400@stmatthewlutherancalgary.com
SUMMARY:English Service
DESCRIPTION:
URL:https://stmatthewlutherancalgary.com/event/english-service-14/2030-11-10/
END:VEVENT
BEGIN:VEVENT
DTSTART;TZID=America/Edmonton:20301117T093000
DTEND;TZID=America/Edmonton:20301117T103000
DTSTAMP:20260419T230534
CREATED:20260203T171836Z
LAST-MODIFIED:20260203T202139Z
UID:10000617-1921138200-1921141800@stmatthewlutherancalgary.com
SUMMARY:German Service
DESCRIPTION:
URL:https://stmatthewlutherancalgary.com/event/german-service-15/2030-11-17/
END:VEVENT
BEGIN:VEVENT
DTSTART;TZID=America/Edmonton:20301117T110000
DTEND;TZID=America/Edmonton:20301117T120000
DTSTAMP:20260419T230534
CREATED:20260203T171936Z
LAST-MODIFIED:20260203T202052Z
UID:10000875-1921143600-1921147200@stmatthewlutherancalgary.com
SUMMARY:English Service
DESCRIPTION:
URL:https://stmatthewlutherancalgary.com/event/english-service-14/2030-11-17/
END:VEVENT
BEGIN:VEVENT
DTSTART;TZID=America/Edmonton:20301124T093000
DTEND;TZID=America/Edmonton:20301124T103000
DTSTAMP:20260419T230534
CREATED:20260203T171836Z
LAST-MODIFIED:20260203T202139Z
UID:10000618-1921743000-1921746600@stmatthewlutherancalgary.com
SUMMARY:German Service
DESCRIPTION:
URL:https://stmatthewlutherancalgary.com/event/german-service-15/2030-11-24/
END:VEVENT
BEGIN:VEVENT
DTSTART;TZID=America/Edmonton:20301124T110000
DTEND;TZID=America/Edmonton:20301124T120000
DTSTAMP:20260419T230534
CREATED:20260203T171936Z
LAST-MODIFIED:20260203T202052Z
UID:10000876-1921748400-1921752000@stmatthewlutherancalgary.com
SUMMARY:English Service
DESCRIPTION:
URL:https://stmatthewlutherancalgary.com/event/english-service-14/2030-11-24/
END:VEVENT
BEGIN:VEVENT
DTSTART;TZID=America/Edmonton:20301201T093000
DTEND;TZID=America/Edmonton:20301201T103000
DTSTAMP:20260419T230534
CREATED:20260203T171836Z
LAST-MODIFIED:20260203T202139Z
UID:10000619-1922347800-1922351400@stmatthewlutherancalgary.com
SUMMARY:German Service
DESCRIPTION:
URL:https://stmatthewlutherancalgary.com/event/german-service-15/2030-12-01/
END:VEVENT
BEGIN:VEVENT
DTSTART;TZID=America/Edmonton:20301201T110000
DTEND;TZID=America/Edmonton:20301201T120000
DTSTAMP:20260419T230534
CREATED:20260203T171936Z
LAST-MODIFIED:20260203T202052Z
UID:10000877-1922353200-1922356800@stmatthewlutherancalgary.com
SUMMARY:English Service
DESCRIPTION:
URL:https://stmatthewlutherancalgary.com/event/english-service-14/2030-12-01/
END:VEVENT
BEGIN:VEVENT
DTSTART;TZID=America/Edmonton:20301208T093000
DTEND;TZID=America/Edmonton:20301208T103000
DTSTAMP:20260419T230534
CREATED:20260203T171836Z
LAST-MODIFIED:20260203T202139Z
UID:10000620-1922952600-1922956200@stmatthewlutherancalgary.com
SUMMARY:German Service
DESCRIPTION:
URL:https://stmatthewlutherancalgary.com/event/german-service-15/2030-12-08/
END:VEVENT
BEGIN:VEVENT
DTSTART;TZID=America/Edmonton:20301208T110000
DTEND;TZID=America/Edmonton:20301208T120000
DTSTAMP:20260419T230534
CREATED:20260203T171936Z
LAST-MODIFIED:20260203T202052Z
UID:10000878-1922958000-1922961600@stmatthewlutherancalgary.com
SUMMARY:English Service
DESCRIPTION:
URL:https://stmatthewlutherancalgary.com/event/english-service-14/2030-12-08/
END:VEVENT
BEGIN:VEVENT
DTSTART;TZID=America/Edmonton:20301215T093000
DTEND;TZID=America/Edmonton:20301215T103000
DTSTAMP:20260419T230534
CREATED:20260203T171836Z
LAST-MODIFIED:20260203T202139Z
UID:10000621-1923557400-1923561000@stmatthewlutherancalgary.com
SUMMARY:German Service
DESCRIPTION:
URL:https://stmatthewlutherancalgary.com/event/german-service-15/2030-12-15/
END:VEVENT
BEGIN:VEVENT
DTSTART;TZID=America/Edmonton:20301215T110000
DTEND;TZID=America/Edmonton:20301215T120000
DTSTAMP:20260419T230534
CREATED:20260203T171936Z
LAST-MODIFIED:20260203T202052Z
UID:10000879-1923562800-1923566400@stmatthewlutherancalgary.com
SUMMARY:English Service
DESCRIPTION:
URL:https://stmatthewlutherancalgary.com/event/english-service-14/2030-12-15/
END:VEVENT
BEGIN:VEVENT
DTSTART;TZID=America/Edmonton:20301222T093000
DTEND;TZID=America/Edmonton:20301222T103000
DTSTAMP:20260419T230534
CREATED:20260203T171836Z
LAST-MODIFIED:20260203T202139Z
UID:10000622-1924162200-1924165800@stmatthewlutherancalgary.com
SUMMARY:German Service
DESCRIPTION:
URL:https://stmatthewlutherancalgary.com/event/german-service-15/2030-12-22/
END:VEVENT
BEGIN:VEVENT
DTSTART;TZID=America/Edmonton:20301222T110000
DTEND;TZID=America/Edmonton:20301222T120000
DTSTAMP:20260419T230534
CREATED:20260203T171936Z
LAST-MODIFIED:20260203T202052Z
UID:10000880-1924167600-1924171200@stmatthewlutherancalgary.com
SUMMARY:English Service
DESCRIPTION:
URL:https://stmatthewlutherancalgary.com/event/english-service-14/2030-12-22/
END:VEVENT
BEGIN:VEVENT
DTSTART;TZID=America/Edmonton:20301229T093000
DTEND;TZID=America/Edmonton:20301229T103000
DTSTAMP:20260419T230534
CREATED:20260203T171836Z
LAST-MODIFIED:20260203T202139Z
UID:10000623-1924767000-1924770600@stmatthewlutherancalgary.com
SUMMARY:German Service
DESCRIPTION:
URL:https://stmatthewlutherancalgary.com/event/german-service-15/2030-12-29/
END:VEVENT
BEGIN:VEVENT
DTSTART;TZID=America/Edmonton:20301229T110000
DTEND;TZID=America/Edmonton:20301229T120000
DTSTAMP:20260419T230534
CREATED:20260203T171936Z
LAST-MODIFIED:20260203T202052Z
UID:10000881-1924772400-1924776000@stmatthewlutherancalgary.com
SUMMARY:English Service
DESCRIPTION:
URL:https://stmatthewlutherancalgary.com/event/english-service-14/2030-12-29/
END:VEVENT
BEGIN:VEVENT
DTSTART;TZID=America/Edmonton:20310105T093000
DTEND;TZID=America/Edmonton:20310105T103000
DTSTAMP:20260419T230534
CREATED:20260203T171836Z
LAST-MODIFIED:20260203T202139Z
UID:10000624-1925371800-1925375400@stmatthewlutherancalgary.com
SUMMARY:German Service
DESCRIPTION:
URL:https://stmatthewlutherancalgary.com/event/german-service-15/2031-01-05/
END:VEVENT
BEGIN:VEVENT
DTSTART;TZID=America/Edmonton:20310105T110000
DTEND;TZID=America/Edmonton:20310105T120000
DTSTAMP:20260419T230534
CREATED:20260203T171936Z
LAST-MODIFIED:20260203T202052Z
UID:10000882-1925377200-1925380800@stmatthewlutherancalgary.com
SUMMARY:English Service
DESCRIPTION:
URL:https://stmatthewlutherancalgary.com/event/english-service-14/2031-01-05/
END:VEVENT
BEGIN:VEVENT
DTSTART;TZID=America/Edmonton:20310112T093000
DTEND;TZID=America/Edmonton:20310112T103000
DTSTAMP:20260419T230534
CREATED:20260203T171836Z
LAST-MODIFIED:20260203T202139Z
UID:10000625-1925976600-1925980200@stmatthewlutherancalgary.com
SUMMARY:German Service
DESCRIPTION:
URL:https://stmatthewlutherancalgary.com/event/german-service-15/2031-01-12/
END:VEVENT
BEGIN:VEVENT
DTSTART;TZID=America/Edmonton:20310112T110000
DTEND;TZID=America/Edmonton:20310112T120000
DTSTAMP:20260419T230534
CREATED:20260203T171936Z
LAST-MODIFIED:20260203T202052Z
UID:10000883-1925982000-1925985600@stmatthewlutherancalgary.com
SUMMARY:English Service
DESCRIPTION:
URL:https://stmatthewlutherancalgary.com/event/english-service-14/2031-01-12/
END:VEVENT
BEGIN:VEVENT
DTSTART;TZID=America/Edmonton:20310119T093000
DTEND;TZID=America/Edmonton:20310119T103000
DTSTAMP:20260419T230534
CREATED:20260203T171836Z
LAST-MODIFIED:20260203T202139Z
UID:10000626-1926581400-1926585000@stmatthewlutherancalgary.com
SUMMARY:German Service
DESCRIPTION:
URL:https://stmatthewlutherancalgary.com/event/german-service-15/2031-01-19/
END:VEVENT
BEGIN:VEVENT
DTSTART;TZID=America/Edmonton:20310119T110000
DTEND;TZID=America/Edmonton:20310119T120000
DTSTAMP:20260419T230534
CREATED:20260203T171936Z
LAST-MODIFIED:20260203T202052Z
UID:10000884-1926586800-1926590400@stmatthewlutherancalgary.com
SUMMARY:English Service
DESCRIPTION:
URL:https://stmatthewlutherancalgary.com/event/english-service-14/2031-01-19/
END:VEVENT
BEGIN:VEVENT
DTSTART;TZID=America/Edmonton:20310126T093000
DTEND;TZID=America/Edmonton:20310126T103000
DTSTAMP:20260419T230534
CREATED:20260203T171836Z
LAST-MODIFIED:20260203T202139Z
UID:10000627-1927186200-1927189800@stmatthewlutherancalgary.com
SUMMARY:German Service
DESCRIPTION:
URL:https://stmatthewlutherancalgary.com/event/german-service-15/2031-01-26/
END:VEVENT
BEGIN:VEVENT
DTSTART;TZID=America/Edmonton:20310126T110000
DTEND;TZID=America/Edmonton:20310126T120000
DTSTAMP:20260419T230534
CREATED:20260203T171936Z
LAST-MODIFIED:20260203T202052Z
UID:10000885-1927191600-1927195200@stmatthewlutherancalgary.com
SUMMARY:English Service
DESCRIPTION:
URL:https://stmatthewlutherancalgary.com/event/english-service-14/2031-01-26/
END:VEVENT
BEGIN:VEVENT
DTSTART;TZID=America/Edmonton:20310202T093000
DTEND;TZID=America/Edmonton:20310202T103000
DTSTAMP:20260419T230534
CREATED:20260203T171836Z
LAST-MODIFIED:20260203T202139Z
UID:10000628-1927791000-1927794600@stmatthewlutherancalgary.com
SUMMARY:German Service
DESCRIPTION:
URL:https://stmatthewlutherancalgary.com/event/german-service-15/2031-02-02/
END:VEVENT
BEGIN:VEVENT
DTSTART;TZID=America/Edmonton:20310202T110000
DTEND;TZID=America/Edmonton:20310202T120000
DTSTAMP:20260419T230534
CREATED:20260203T171936Z
LAST-MODIFIED:20260203T202052Z
UID:10000886-1927796400-1927800000@stmatthewlutherancalgary.com
SUMMARY:English Service
DESCRIPTION:
URL:https://stmatthewlutherancalgary.com/event/english-service-14/2031-02-02/
END:VEVENT
END:VCALENDAR