BEGIN:VCALENDAR
VERSION:2.0
PRODID:-//St Matthew Lutheran Church - ECPv6.15.18//NONSGML v1.0//EN
CALSCALE:GREGORIAN
METHOD:PUBLISH
X-WR-CALNAME:St Matthew Lutheran Church
X-ORIGINAL-URL:https://stmatthewlutherancalgary.com
X-WR-CALDESC:Events for St Matthew Lutheran Church
REFRESH-INTERVAL;VALUE=DURATION:PT1H
X-Robots-Tag:noindex
X-PUBLISHED-TTL:PT1H
BEGIN:VTIMEZONE
TZID:America/Edmonton
BEGIN:DAYLIGHT
TZOFFSETFROM:-0700
TZOFFSETTO:-0600
TZNAME:MDT
DTSTART:20260308T090000
END:DAYLIGHT
BEGIN:STANDARD
TZOFFSETFROM:-0600
TZOFFSETTO:-0700
TZNAME:MST
DTSTART:20261101T080000
END:STANDARD
BEGIN:DAYLIGHT
TZOFFSETFROM:-0700
TZOFFSETTO:-0600
TZNAME:MDT
DTSTART:20270314T090000
END:DAYLIGHT
BEGIN:STANDARD
TZOFFSETFROM:-0600
TZOFFSETTO:-0700
TZNAME:MST
DTSTART:20271107T080000
END:STANDARD
BEGIN:DAYLIGHT
TZOFFSETFROM:-0700
TZOFFSETTO:-0600
TZNAME:MDT
DTSTART:20280312T090000
END:DAYLIGHT
BEGIN:STANDARD
TZOFFSETFROM:-0600
TZOFFSETTO:-0700
TZNAME:MST
DTSTART:20281105T080000
END:STANDARD
END:VTIMEZONE
BEGIN:VEVENT
DTSTART;TZID=America/Edmonton:20271205T093000
DTEND;TZID=America/Edmonton:20271205T103000
DTSTAMP:20260420T192949
CREATED:20260203T171836Z
LAST-MODIFIED:20260203T202139Z
UID:10000463-1827999000-1828002600@stmatthewlutherancalgary.com
SUMMARY:German Service
DESCRIPTION:
URL:https://stmatthewlutherancalgary.com/event/german-service-15/2027-12-05/
END:VEVENT
BEGIN:VEVENT
DTSTART;TZID=America/Edmonton:20271205T110000
DTEND;TZID=America/Edmonton:20271205T120000
DTSTAMP:20260420T192949
CREATED:20260203T171936Z
LAST-MODIFIED:20260203T202052Z
UID:10000721-1828004400-1828008000@stmatthewlutherancalgary.com
SUMMARY:English Service
DESCRIPTION:
URL:https://stmatthewlutherancalgary.com/event/english-service-14/2027-12-05/
END:VEVENT
BEGIN:VEVENT
DTSTART;TZID=America/Edmonton:20271212T093000
DTEND;TZID=America/Edmonton:20271212T103000
DTSTAMP:20260420T192949
CREATED:20260203T171836Z
LAST-MODIFIED:20260203T202139Z
UID:10000464-1828603800-1828607400@stmatthewlutherancalgary.com
SUMMARY:German Service
DESCRIPTION:
URL:https://stmatthewlutherancalgary.com/event/german-service-15/2027-12-12/
END:VEVENT
BEGIN:VEVENT
DTSTART;TZID=America/Edmonton:20271212T110000
DTEND;TZID=America/Edmonton:20271212T120000
DTSTAMP:20260420T192949
CREATED:20260203T171936Z
LAST-MODIFIED:20260203T202052Z
UID:10000722-1828609200-1828612800@stmatthewlutherancalgary.com
SUMMARY:English Service
DESCRIPTION:
URL:https://stmatthewlutherancalgary.com/event/english-service-14/2027-12-12/
END:VEVENT
BEGIN:VEVENT
DTSTART;TZID=America/Edmonton:20271219T093000
DTEND;TZID=America/Edmonton:20271219T103000
DTSTAMP:20260420T192949
CREATED:20260203T171836Z
LAST-MODIFIED:20260203T202139Z
UID:10000465-1829208600-1829212200@stmatthewlutherancalgary.com
SUMMARY:German Service
DESCRIPTION:
URL:https://stmatthewlutherancalgary.com/event/german-service-15/2027-12-19/
END:VEVENT
BEGIN:VEVENT
DTSTART;TZID=America/Edmonton:20271219T110000
DTEND;TZID=America/Edmonton:20271219T120000
DTSTAMP:20260420T192949
CREATED:20260203T171936Z
LAST-MODIFIED:20260203T202052Z
UID:10000723-1829214000-1829217600@stmatthewlutherancalgary.com
SUMMARY:English Service
DESCRIPTION:
URL:https://stmatthewlutherancalgary.com/event/english-service-14/2027-12-19/
END:VEVENT
BEGIN:VEVENT
DTSTART;TZID=America/Edmonton:20271226T093000
DTEND;TZID=America/Edmonton:20271226T103000
DTSTAMP:20260420T192949
CREATED:20260203T171836Z
LAST-MODIFIED:20260203T202139Z
UID:10000466-1829813400-1829817000@stmatthewlutherancalgary.com
SUMMARY:German Service
DESCRIPTION:
URL:https://stmatthewlutherancalgary.com/event/german-service-15/2027-12-26/
END:VEVENT
BEGIN:VEVENT
DTSTART;TZID=America/Edmonton:20271226T110000
DTEND;TZID=America/Edmonton:20271226T120000
DTSTAMP:20260420T192949
CREATED:20260203T171936Z
LAST-MODIFIED:20260203T202052Z
UID:10000724-1829818800-1829822400@stmatthewlutherancalgary.com
SUMMARY:English Service
DESCRIPTION:
URL:https://stmatthewlutherancalgary.com/event/english-service-14/2027-12-26/
END:VEVENT
END:VCALENDAR