BEGIN:VCALENDAR
VERSION:2.0
PRODID:-//St Matthew Lutheran Church - ECPv6.15.18//NONSGML v1.0//EN
CALSCALE:GREGORIAN
METHOD:PUBLISH
X-WR-CALNAME:St Matthew Lutheran Church
X-ORIGINAL-URL:https://stmatthewlutherancalgary.com
X-WR-CALDESC:Events for St Matthew Lutheran Church
REFRESH-INTERVAL;VALUE=DURATION:PT1H
X-Robots-Tag:noindex
X-PUBLISHED-TTL:PT1H
BEGIN:VTIMEZONE
TZID:America/Edmonton
BEGIN:DAYLIGHT
TZOFFSETFROM:-0700
TZOFFSETTO:-0600
TZNAME:MDT
DTSTART:20270314T090000
END:DAYLIGHT
BEGIN:STANDARD
TZOFFSETFROM:-0600
TZOFFSETTO:-0700
TZNAME:MST
DTSTART:20271107T080000
END:STANDARD
BEGIN:DAYLIGHT
TZOFFSETFROM:-0700
TZOFFSETTO:-0600
TZNAME:MDT
DTSTART:20280312T090000
END:DAYLIGHT
BEGIN:STANDARD
TZOFFSETFROM:-0600
TZOFFSETTO:-0700
TZNAME:MST
DTSTART:20281105T080000
END:STANDARD
BEGIN:DAYLIGHT
TZOFFSETFROM:-0700
TZOFFSETTO:-0600
TZNAME:MDT
DTSTART:20290311T090000
END:DAYLIGHT
BEGIN:STANDARD
TZOFFSETFROM:-0600
TZOFFSETTO:-0700
TZNAME:MST
DTSTART:20291104T080000
END:STANDARD
END:VTIMEZONE
BEGIN:VEVENT
DTSTART;TZID=America/Edmonton:20280206T093000
DTEND;TZID=America/Edmonton:20280206T103000
DTSTAMP:20260420T224749
CREATED:20260203T171836Z
LAST-MODIFIED:20260203T202139Z
UID:10000472-1833442200-1833445800@stmatthewlutherancalgary.com
SUMMARY:German Service
DESCRIPTION:
URL:https://stmatthewlutherancalgary.com/event/german-service-15/2028-02-06/
END:VEVENT
BEGIN:VEVENT
DTSTART;TZID=America/Edmonton:20280206T110000
DTEND;TZID=America/Edmonton:20280206T120000
DTSTAMP:20260420T224749
CREATED:20260203T171936Z
LAST-MODIFIED:20260203T202052Z
UID:10000730-1833447600-1833451200@stmatthewlutherancalgary.com
SUMMARY:English Service
DESCRIPTION:
URL:https://stmatthewlutherancalgary.com/event/english-service-14/2028-02-06/
END:VEVENT
BEGIN:VEVENT
DTSTART;TZID=America/Edmonton:20280213T093000
DTEND;TZID=America/Edmonton:20280213T103000
DTSTAMP:20260420T224749
CREATED:20260203T171836Z
LAST-MODIFIED:20260203T202139Z
UID:10000473-1834047000-1834050600@stmatthewlutherancalgary.com
SUMMARY:German Service
DESCRIPTION:
URL:https://stmatthewlutherancalgary.com/event/german-service-15/2028-02-13/
END:VEVENT
BEGIN:VEVENT
DTSTART;TZID=America/Edmonton:20280213T110000
DTEND;TZID=America/Edmonton:20280213T120000
DTSTAMP:20260420T224749
CREATED:20260203T171936Z
LAST-MODIFIED:20260203T202052Z
UID:10000731-1834052400-1834056000@stmatthewlutherancalgary.com
SUMMARY:English Service
DESCRIPTION:
URL:https://stmatthewlutherancalgary.com/event/english-service-14/2028-02-13/
END:VEVENT
BEGIN:VEVENT
DTSTART;TZID=America/Edmonton:20280220T093000
DTEND;TZID=America/Edmonton:20280220T103000
DTSTAMP:20260420T224749
CREATED:20260203T171836Z
LAST-MODIFIED:20260203T202139Z
UID:10000474-1834651800-1834655400@stmatthewlutherancalgary.com
SUMMARY:German Service
DESCRIPTION:
URL:https://stmatthewlutherancalgary.com/event/german-service-15/2028-02-20/
END:VEVENT
BEGIN:VEVENT
DTSTART;TZID=America/Edmonton:20280220T110000
DTEND;TZID=America/Edmonton:20280220T120000
DTSTAMP:20260420T224749
CREATED:20260203T171936Z
LAST-MODIFIED:20260203T202052Z
UID:10000732-1834657200-1834660800@stmatthewlutherancalgary.com
SUMMARY:English Service
DESCRIPTION:
URL:https://stmatthewlutherancalgary.com/event/english-service-14/2028-02-20/
END:VEVENT
BEGIN:VEVENT
DTSTART;TZID=America/Edmonton:20280227T093000
DTEND;TZID=America/Edmonton:20280227T103000
DTSTAMP:20260420T224749
CREATED:20260203T171836Z
LAST-MODIFIED:20260203T202139Z
UID:10000475-1835256600-1835260200@stmatthewlutherancalgary.com
SUMMARY:German Service
DESCRIPTION:
URL:https://stmatthewlutherancalgary.com/event/german-service-15/2028-02-27/
END:VEVENT
BEGIN:VEVENT
DTSTART;TZID=America/Edmonton:20280227T110000
DTEND;TZID=America/Edmonton:20280227T120000
DTSTAMP:20260420T224749
CREATED:20260203T171936Z
LAST-MODIFIED:20260203T202052Z
UID:10000733-1835262000-1835265600@stmatthewlutherancalgary.com
SUMMARY:English Service
DESCRIPTION:
URL:https://stmatthewlutherancalgary.com/event/english-service-14/2028-02-27/
END:VEVENT
END:VCALENDAR