BEGIN:VCALENDAR
VERSION:2.0
PRODID:-//St Matthew Lutheran Church - ECPv6.15.18//NONSGML v1.0//EN
CALSCALE:GREGORIAN
METHOD:PUBLISH
X-ORIGINAL-URL:https://stmatthewlutherancalgary.com
X-WR-CALDESC:Events for St Matthew Lutheran Church
REFRESH-INTERVAL;VALUE=DURATION:PT1H
X-Robots-Tag:noindex
X-PUBLISHED-TTL:PT1H
BEGIN:VTIMEZONE
TZID:America/Edmonton
BEGIN:DAYLIGHT
TZOFFSETFROM:-0700
TZOFFSETTO:-0600
TZNAME:MDT
DTSTART:20280312T090000
END:DAYLIGHT
BEGIN:STANDARD
TZOFFSETFROM:-0600
TZOFFSETTO:-0700
TZNAME:MST
DTSTART:20281105T080000
END:STANDARD
BEGIN:DAYLIGHT
TZOFFSETFROM:-0700
TZOFFSETTO:-0600
TZNAME:MDT
DTSTART:20290311T090000
END:DAYLIGHT
BEGIN:STANDARD
TZOFFSETFROM:-0600
TZOFFSETTO:-0700
TZNAME:MST
DTSTART:20291104T080000
END:STANDARD
BEGIN:DAYLIGHT
TZOFFSETFROM:-0700
TZOFFSETTO:-0600
TZNAME:MDT
DTSTART:20300310T090000
END:DAYLIGHT
BEGIN:STANDARD
TZOFFSETFROM:-0600
TZOFFSETTO:-0700
TZNAME:MST
DTSTART:20301103T080000
END:STANDARD
END:VTIMEZONE
BEGIN:VEVENT
DTSTART;TZID=America/Edmonton:20290204T093000
DTEND;TZID=America/Edmonton:20290204T103000
DTSTAMP:20260421T170155
CREATED:20260203T171836Z
LAST-MODIFIED:20260203T202139Z
UID:10000524-1864891800-1864895400@stmatthewlutherancalgary.com
SUMMARY:German Service
DESCRIPTION:
URL:https://stmatthewlutherancalgary.com/event/german-service-15/2029-02-04/
END:VEVENT
BEGIN:VEVENT
DTSTART;TZID=America/Edmonton:20290204T110000
DTEND;TZID=America/Edmonton:20290204T120000
DTSTAMP:20260421T170155
CREATED:20260203T171936Z
LAST-MODIFIED:20260203T202052Z
UID:10000782-1864897200-1864900800@stmatthewlutherancalgary.com
SUMMARY:English Service
DESCRIPTION:
URL:https://stmatthewlutherancalgary.com/event/english-service-14/2029-02-04/
END:VEVENT
BEGIN:VEVENT
DTSTART;TZID=America/Edmonton:20290211T093000
DTEND;TZID=America/Edmonton:20290211T103000
DTSTAMP:20260421T170155
CREATED:20260203T171836Z
LAST-MODIFIED:20260203T202139Z
UID:10000525-1865496600-1865500200@stmatthewlutherancalgary.com
SUMMARY:German Service
DESCRIPTION:
URL:https://stmatthewlutherancalgary.com/event/german-service-15/2029-02-11/
END:VEVENT
BEGIN:VEVENT
DTSTART;TZID=America/Edmonton:20290211T110000
DTEND;TZID=America/Edmonton:20290211T120000
DTSTAMP:20260421T170155
CREATED:20260203T171936Z
LAST-MODIFIED:20260203T202052Z
UID:10000783-1865502000-1865505600@stmatthewlutherancalgary.com
SUMMARY:English Service
DESCRIPTION:
URL:https://stmatthewlutherancalgary.com/event/english-service-14/2029-02-11/
END:VEVENT
BEGIN:VEVENT
DTSTART;TZID=America/Edmonton:20290218T093000
DTEND;TZID=America/Edmonton:20290218T103000
DTSTAMP:20260421T170155
CREATED:20260203T171836Z
LAST-MODIFIED:20260203T202139Z
UID:10000526-1866101400-1866105000@stmatthewlutherancalgary.com
SUMMARY:German Service
DESCRIPTION:
URL:https://stmatthewlutherancalgary.com/event/german-service-15/2029-02-18/
END:VEVENT
BEGIN:VEVENT
DTSTART;TZID=America/Edmonton:20290218T110000
DTEND;TZID=America/Edmonton:20290218T120000
DTSTAMP:20260421T170155
CREATED:20260203T171936Z
LAST-MODIFIED:20260203T202052Z
UID:10000784-1866106800-1866110400@stmatthewlutherancalgary.com
SUMMARY:English Service
DESCRIPTION:
URL:https://stmatthewlutherancalgary.com/event/english-service-14/2029-02-18/
END:VEVENT
BEGIN:VEVENT
DTSTART;TZID=America/Edmonton:20290225T093000
DTEND;TZID=America/Edmonton:20290225T103000
DTSTAMP:20260421T170155
CREATED:20260203T171836Z
LAST-MODIFIED:20260203T202139Z
UID:10000527-1866706200-1866709800@stmatthewlutherancalgary.com
SUMMARY:German Service
DESCRIPTION:
URL:https://stmatthewlutherancalgary.com/event/german-service-15/2029-02-25/
END:VEVENT
BEGIN:VEVENT
DTSTART;TZID=America/Edmonton:20290225T110000
DTEND;TZID=America/Edmonton:20290225T120000
DTSTAMP:20260421T170155
CREATED:20260203T171936Z
LAST-MODIFIED:20260203T202052Z
UID:10000785-1866711600-1866715200@stmatthewlutherancalgary.com
SUMMARY:English Service
DESCRIPTION:
URL:https://stmatthewlutherancalgary.com/event/english-service-14/2029-02-25/
END:VEVENT
END:VCALENDAR