BEGIN:VCALENDAR
VERSION:2.0
PRODID:-//St Matthew Lutheran Church - ECPv6.15.18//NONSGML v1.0//EN
CALSCALE:GREGORIAN
METHOD:PUBLISH
X-WR-CALNAME:St Matthew Lutheran Church
X-ORIGINAL-URL:https://stmatthewlutherancalgary.com
X-WR-CALDESC:Events for St Matthew Lutheran Church
REFRESH-INTERVAL;VALUE=DURATION:PT1H
X-Robots-Tag:noindex
X-PUBLISHED-TTL:PT1H
BEGIN:VTIMEZONE
TZID:America/Edmonton
BEGIN:DAYLIGHT
TZOFFSETFROM:-0700
TZOFFSETTO:-0600
TZNAME:MDT
DTSTART:20280312T090000
END:DAYLIGHT
BEGIN:STANDARD
TZOFFSETFROM:-0600
TZOFFSETTO:-0700
TZNAME:MST
DTSTART:20281105T080000
END:STANDARD
BEGIN:DAYLIGHT
TZOFFSETFROM:-0700
TZOFFSETTO:-0600
TZNAME:MDT
DTSTART:20290311T090000
END:DAYLIGHT
BEGIN:STANDARD
TZOFFSETFROM:-0600
TZOFFSETTO:-0700
TZNAME:MST
DTSTART:20291104T080000
END:STANDARD
BEGIN:DAYLIGHT
TZOFFSETFROM:-0700
TZOFFSETTO:-0600
TZNAME:MDT
DTSTART:20300310T090000
END:DAYLIGHT
BEGIN:STANDARD
TZOFFSETFROM:-0600
TZOFFSETTO:-0700
TZNAME:MST
DTSTART:20301103T080000
END:STANDARD
END:VTIMEZONE
BEGIN:VEVENT
DTSTART;TZID=America/Edmonton:20290401T093000
DTEND;TZID=America/Edmonton:20290401T103000
DTSTAMP:20260421T201311
CREATED:20260203T171836Z
LAST-MODIFIED:20260203T202139Z
UID:10000532-1869730200-1869733800@stmatthewlutherancalgary.com
SUMMARY:German Service
DESCRIPTION:
URL:https://stmatthewlutherancalgary.com/event/german-service-15/2029-04-01/
END:VEVENT
BEGIN:VEVENT
DTSTART;TZID=America/Edmonton:20290401T110000
DTEND;TZID=America/Edmonton:20290401T120000
DTSTAMP:20260421T201311
CREATED:20260203T171936Z
LAST-MODIFIED:20260203T202052Z
UID:10000790-1869735600-1869739200@stmatthewlutherancalgary.com
SUMMARY:English Service
DESCRIPTION:
URL:https://stmatthewlutherancalgary.com/event/english-service-14/2029-04-01/
END:VEVENT
BEGIN:VEVENT
DTSTART;TZID=America/Edmonton:20290408T093000
DTEND;TZID=America/Edmonton:20290408T103000
DTSTAMP:20260421T201311
CREATED:20260203T171836Z
LAST-MODIFIED:20260203T202139Z
UID:10000533-1870335000-1870338600@stmatthewlutherancalgary.com
SUMMARY:German Service
DESCRIPTION:
URL:https://stmatthewlutherancalgary.com/event/german-service-15/2029-04-08/
END:VEVENT
BEGIN:VEVENT
DTSTART;TZID=America/Edmonton:20290408T110000
DTEND;TZID=America/Edmonton:20290408T120000
DTSTAMP:20260421T201311
CREATED:20260203T171936Z
LAST-MODIFIED:20260203T202052Z
UID:10000791-1870340400-1870344000@stmatthewlutherancalgary.com
SUMMARY:English Service
DESCRIPTION:
URL:https://stmatthewlutherancalgary.com/event/english-service-14/2029-04-08/
END:VEVENT
BEGIN:VEVENT
DTSTART;TZID=America/Edmonton:20290415T093000
DTEND;TZID=America/Edmonton:20290415T103000
DTSTAMP:20260421T201311
CREATED:20260203T171836Z
LAST-MODIFIED:20260203T202139Z
UID:10000534-1870939800-1870943400@stmatthewlutherancalgary.com
SUMMARY:German Service
DESCRIPTION:
URL:https://stmatthewlutherancalgary.com/event/german-service-15/2029-04-15/
END:VEVENT
BEGIN:VEVENT
DTSTART;TZID=America/Edmonton:20290415T110000
DTEND;TZID=America/Edmonton:20290415T120000
DTSTAMP:20260421T201311
CREATED:20260203T171936Z
LAST-MODIFIED:20260203T202052Z
UID:10000792-1870945200-1870948800@stmatthewlutherancalgary.com
SUMMARY:English Service
DESCRIPTION:
URL:https://stmatthewlutherancalgary.com/event/english-service-14/2029-04-15/
END:VEVENT
BEGIN:VEVENT
DTSTART;TZID=America/Edmonton:20290422T093000
DTEND;TZID=America/Edmonton:20290422T103000
DTSTAMP:20260421T201311
CREATED:20260203T171836Z
LAST-MODIFIED:20260203T202139Z
UID:10000535-1871544600-1871548200@stmatthewlutherancalgary.com
SUMMARY:German Service
DESCRIPTION:
URL:https://stmatthewlutherancalgary.com/event/german-service-15/2029-04-22/
END:VEVENT
BEGIN:VEVENT
DTSTART;TZID=America/Edmonton:20290422T110000
DTEND;TZID=America/Edmonton:20290422T120000
DTSTAMP:20260421T201311
CREATED:20260203T171936Z
LAST-MODIFIED:20260203T202052Z
UID:10000793-1871550000-1871553600@stmatthewlutherancalgary.com
SUMMARY:English Service
DESCRIPTION:
URL:https://stmatthewlutherancalgary.com/event/english-service-14/2029-04-22/
END:VEVENT
BEGIN:VEVENT
DTSTART;TZID=America/Edmonton:20290429T093000
DTEND;TZID=America/Edmonton:20290429T103000
DTSTAMP:20260421T201311
CREATED:20260203T171836Z
LAST-MODIFIED:20260203T202139Z
UID:10000536-1872149400-1872153000@stmatthewlutherancalgary.com
SUMMARY:German Service
DESCRIPTION:
URL:https://stmatthewlutherancalgary.com/event/german-service-15/2029-04-29/
END:VEVENT
BEGIN:VEVENT
DTSTART;TZID=America/Edmonton:20290429T110000
DTEND;TZID=America/Edmonton:20290429T120000
DTSTAMP:20260421T201311
CREATED:20260203T171936Z
LAST-MODIFIED:20260203T202052Z
UID:10000794-1872154800-1872158400@stmatthewlutherancalgary.com
SUMMARY:English Service
DESCRIPTION:
URL:https://stmatthewlutherancalgary.com/event/english-service-14/2029-04-29/
END:VEVENT
END:VCALENDAR